View In:
ArcGIS JavaScript
ArcGIS Online Map Viewer
ArcGIS Earth
Service Description: Projects_LRM/Watershed_Drainage_Area_SqMi
Name: Projects_LRM/Watershed_Drainage_Area_SqMi
Description:
Single Fused Map Cache: false
Extent:
XMin: 625680.0937972035
YMin: -149177.24991629925
XMax: 1476597.0271305153
YMax: 1051968.641750337
Spatial Reference: 102710
(3437)
LatestVCSWkid(0)
Initial Extent:
XMin: 625680.0937972035
YMin: -149177.24991629925
XMax: 1476597.0271305153
YMax: 1051968.641750337
Spatial Reference: 102710
(3437)
LatestVCSWkid(0)
Full Extent:
XMin: 625680.0937972035
YMin: -149177.24991629925
XMax: 1476597.0271305153
YMax: 1051968.641750337
Spatial Reference: 102710
(3437)
LatestVCSWkid(0)
Pixel Size X: 32.808333333332506
Pixel Size Y: 32.808333333332506
Band Count: 1
Pixel Type: F32
RasterFunction Infos: {"rasterFunctionInfos": [{
"name": "None",
"description": "",
"help": ""
}]}
Mensuration Capabilities: Basic
Inspection Capabilities:
Has Histograms: true
Has Colormap: false
Has Multi Dimensions : false
Rendering Rule:
Min Scale: 0
Max Scale: 0
Resampling: false
Copyright Text:
Service Data Type: esriImageServiceDataTypeGeneric
Min Values: 0.025019280612469
Max Values: 7156.462890625
Mean Values: 36.856215952925
Standard Deviation Values: 331.29635088404
Object ID Field:
Fields:
None
Default Mosaic Method: Center
Allowed Mosaic Methods:
SortField:
SortValue: null
Mosaic Operator: First
Default Compression Quality: 75
Default Resampling Method: Bilinear
Max Record Count: null
Max Image Height: 4100
Max Image Width: 15000
Max Download Image Count: null
Max Mosaic Image Count: null
Allow Raster Function: true
Allow Copy: true
Allow Analysis: true
Allow Compute TiePoints: false
Supports Statistics: false
Supports Advanced Queries: false
Use StandardizedQueries: true
Raster Type Infos:
Name: Raster Dataset
Description: Supports all ArcGIS Raster Datasets
Help:
Has Raster Attribute Table: false
Edit Fields Info: null
Ownership Based AccessControl For Rasters: null
Child Resources:
Info
Histograms
Statistics
Key Properties
Legend
Raster Function Infos
Supported Operations:
Export Image
Identify
Measure
Compute Histograms
Compute Statistics Histograms
Get Samples
Compute Class Statistics
Query Boundary
Compute Pixel Location
Compute Angles
Validate
Project